Workbook

Sheet Ordinates
E2: # Self-Propelled Tugboat Model | K2: Observations
K3: Editable Cells | O3: S | P3: Straight Line
K4: Resultant Cells | O4: Z | P4: Same for all Ducts (=0)
E6: Date | G6: 43900 | K6: Results (mm)
E7: Author | G7: Samuel Neves Jocas | K7: No. 19A | N7: No. 37 | Q7: Cota | R7: Localization
E8: Sector | G8: Sistemas Propulsivos | K8: X | L8: Yi | M8: Yu | N8: X | O8: Yi | P8: Yu | Q8: Z
E9: Description | K9: =(G25*Ordinates!A7) -> 0 | L9: =(G23+G15+(G25*Calculations!B7)) -> 47.10375 | N9: =(G26*Calculations!D7) -> 0 | O9: =(G23+G15+(G26*Calculations!E7)) -> 47.13535 | P9: =(G23+G15+(G26*Calculations!F7)) -> 47.13535 | Q9: 0 | R9: Leading Edge
E10: Spreadsheet for sizing MARIN's No. 19A and 37. | K10: =(G25*Calculations!A8) -> 0.49375 | L10: =(G23+G15+(G25*Calculations!B8)) -> 45.6857 | M10: =(G23+G15+(G25*Calculations!C8)) -> 48.0794 | N10: =(G26*Calculations!D8) -> 0.49375 | O10: =(G23+G15+(G26*Calculations!E8)) -> 45.82 | P10: =(G23+G15+(G26*Calculations!F8)) -> 48.3085 | Q10: 0
K11: =(G25*Calculations!A9) -> 0.9875 | L11: =(G23+G15+(G25*Calculations!B9)) -> 44.951 | M11: =(G23+G15+(G25*Calculations!C9)) -> 48.21765 | N11: =(G26*Calculations!D9) -> 0.9875 | O11: =(G23+G15+(G26*Calculations!E9)) -> 45.0695 | P11: =(G23+G15+(G26*Calculations!F9)) -> 48.4665 | Q11: 0
K12: =(G25*Calculations!A10) -> 1.975 | L12: =(G23+G15+(G25*Calculations!B10)) -> 44.18865 | M12: =(G23+G15+(G25*Calculations!C10)) -> 48.111 | N12: =(G26*Calculations!D10) -> 1.975 | O12: =(G23+G15+(G26*Calculations!E10)) -> 43.845 | P12: =(G23+G15+(G26*Calculations!F10)) -> 48.427 | Q12: 0
B13: Basic Data | K13: =(G25*Calculations!A11) -> 2.9625 | L13: =(G23+G15+(G25*Calculations!B11)) -> 43.055 | M13: S | N13: =(G26*Calculations!D11) -> 2.9625 | O13: =(G23+G15+(G26*Calculations!E11)) -> 43.0155 | P13: S | Q13: 0
B14: Propeller Diameter (D) | G14: 79 | I14: mm | K14: =(G25*Calculations!A12) -> 3.95 | L14: =(G23+G15+(G25*Calculations!B12)) -> 42.3993 | M14: S | N14: =(G26*Calculations!D12) -> 3.95 | O14: =(G23+G15+(G26*Calculations!E12)) -> 42.30845 | P14: S | Q14: 0
B15: Gap (Duct x Propeller) | G15: 0.395 | I15: mm | K15: =(G25*Calculations!A13) -> 5.925 | L15: =(G23+G15+(G25*Calculations!B13)) -> 41.42365 | M15: S | N15: =(G26*Calculations!D13) -> 5.925 | O15: =(G23+G15+(G26*Calculations!E13)) -> 41.317 | P15: S | Q15: 0
K16: =(G25*Calculations!A14) -> 7.9 | L16: =(G23+G15+(G25*Calculations!B14)) -> 40.75215 | M16: S | N16: =(G26*Calculations!D14) -> 7.9 | O16: =(G23+G15+(G26*Calculations!E14)) -> 40.685 | P16: S | Q16: 0
B17: *Recommended Gap | K17: =(G25*Calculations!A15) -> 9.875 | L17: =(G23+G15+(G25*Calculations!B15)) -> 40.3295 | M17: S | N17: =(G26*Calculations!D15) -> 9.875 | O17: =(G23+G15+(G26*Calculations!E15)) -> 40.29 | P17: S | Q17: 0
B18: Séries B Troost | F18: Séries Kaplan | K18: =(G25*Calculations!A16) -> 11.85 | L18: =(G23+G15+(G25*Calculations!B16)) -> 40.0846 | M18: S | N18: =(G26*Calculations!D16) -> 11.85 | O18: =(G23+G15+(G26*Calculations!E16)) -> 40.053 | P18: S | Q18: 0
B19: From (mm) | D19: To (mm) | F19: From (mm) | H19: To (mm) | K19: =(G25*Calculations!A17) -> 15.8 | L19: =(G23+G15+(G25*Calculations!B17)) -> 39.895 | M19: S | N19: =(G26*Calculations!D17) -> 15.8 | O19: =(G23+G15+(G26*Calculations!E17)) -> 39.895 | P19: S | Q19: 0
B20: =(0.01*G14) -> 0.79 | D20: =(0.015*G14) -> 1.185 | F20: =(0.005*G14) -> 0.395 | H20: =(0.01*G14) -> 0.79 | K20: =(G25*Calculations!A18) -> 19.75 | L20: =(G23+G15+(G25*Calculations!B18)) -> 39.895 | M20: S | N20: =(G26*Calculations!D18) -> 19.75 | O20: =(G23+G15+(G26*Calculations!E18)) -> 39.895 | P20: S | Q20: 0
K21: =(G25*Calculations!A19) -> 23.7 | L21: =(G23+G15+(G25*Calculations!B19)) -> 39.895 | M21: S | N21: =(G26*Calculations!D19) -> 23.7 | O21: =(G23+G15+(G26*Calculations!E19)) -> 39.895 | P21: S | Q21: 0
B22: Fundamental Data | K22: =(G25*Calculations!A20) -> 27.65 | L22: =(G23+G15+(G25*Calculations!B20)) -> 40.00955 | M22: S | N22: =(G26*Calculations!D20) -> 27.65 | O22: =(G23+G15+(G26*Calculations!E20)) -> 39.974 | P22: S | Q22: 0
B23: Propeller Radio (r) | G23: =(0.5*G14) -> 39.5 | I23: mm | K23: =(G25*Calculations!A21) -> 31.6 | L23: =(G23+G15+(G25*Calculations!B21)) -> 40.2189 | M23: S | N23: =(G26*Calculations!D21) -> 31.6 | O23: =(G23+G15+(G26*Calculations!E21)) -> 40.3295 | P23: S | Q23: 0
B24: Total Inner Diameter | G24: =(G14+(2*G15)) -> 79.79 | I24: mm | K24: =(G25*Calculations!A22) -> 35.55 | L24: =(G23+G15+(G25*Calculations!B22)) -> 40.46775 | M24: S | N24: =(G26*Calculations!D22) -> 35.55 | O24: =(G23+G15+(G26*Calculations!E22)) -> 41.396 | P24: S | Q24: 0
B25: 19A Duct Lenght (L) | G25: =(G14*0.5) -> 39.5 | I25: mm | K25: =(G25*Calculations!A23) -> 37.525 | L25: =(G23+G15+(G25*Calculations!B23)) -> 40.6297 | M25: =(G23+G15+(G25*Calculations!C23)) -> 42.4072 | N25: =(G26*Calculations!D23) -> 37.525 | O25: =(G23+G15+(G26*Calculations!E23)) -> 42.502 | P25: =(G23+G15+(G26*Calculations!F23)) -> 46.215 | Q25: 0
B26: 37 Duct Lenght (L) | G26: =(G14*0.5) -> 39.5 | I26: mm | K26: =(G25*Calculations!A24) -> 39.5 | L26: =(G23+G15+(G25*Calculations!B24)) -> 40.8272 | N26: =(G26*Calculations!D24) -> 39.5 | O26: =(G23+G15+(G26*Calculations!E24)) -> 44.8009 | P26: =(G23+G15+(G26*Calculations!F24)) -> 44.8009 | Q26: 0 | R26: Trealing Edge
B28: Bibliographic References
B29: CARLTON, J. Marine Propeller and Propulsion, (Páginas 114-117)

Sheet Calculations
A1: Coordinates of MARIN'S Nozzle No. 19A and No. 37 | H1: Data
H3: Duct upper ordinate
H4: Propeller Radius + Clearence + yu
A5: No. 19A | D5: No. 37 | H5: Duct inner ordinate
A6: x/L | B6: yi/L | C6: yu/L | D6: x/L | E6: yi/L | F6: yu/L | H6: Propeller Radius + Tip Clearence + yi
A7: 0 | B7: 0.1825 | D7: 0 | E7: 0.1833 | F7: 0.1833 | G7: Leading Edge | H7: No. 19A (L/D = 0.5)
A8: 0.0125 | B8: 0.1466 | C8: 0.2072 | D8: 0.0125 | E8: 0.15 | F8: 0.213 | H8: No. 37 (L/D = 0.5)
A9: 0.025 | B9: 0.128 | C9: 0.2107 | D9: 0.025 | E9: 0.131 | F9: 0.217
A10: 0.05 | B10: 0.1087 | C10: 0.208 | D10: 0.05 | E10: 0.1 | F10: 0.216
A11: 0.075 | B11: 0.08 | C11: s | D11: 0.075 | E11: 0.079 | F11: s
A12: 0.1 | B12: 0.0634 | C12: s | D12: 0.1 | E12: 0.0611 | F12: s
A13: 0.15 | B13: 0.0387 | C13: s | D13: 0.15 | E13: 0.036 | F13: s
A14: 0.2 | B14: 0.0217 | C14: s | D14: 0.2 | E14: 0.02 | F14: s
A15: 0.25 | B15: 0.011 | C15: s | D15: 0.25 | E15: 0.01 | F15: s
A16: 0.3 | B16: 0.0048 | C16: s | D16: 0.3 | E16: 0.004 | F16: s
A17: 0.4 | B17: 0 | C17: s | D17: 0.4 | E17: 0 | F17: s
A18: 0.5 | B18: 0 | C18: s | D18: 0.5 | E18: 0 | F18: s
A19: 0.6 | B19: 0 | C19: s | D19: 0.6 | E19: 0 | F19: s
A20: 0.7 | B20: 0.0029 | C20: s | D20: 0.7 | E20: 0.002 | F20: s
A21: 0.8 | B21: 0.0082 | C21: s | D21: 0.8 | E21: 0.011 | F21: s
A22: 0.9 | B22: 0.0145 | C22: s | D22: 0.9 | E22: 0.038 | F22: s
A23: 0.95 | B23: 0.0186 | C23: 0.0636 | D23: 0.95 | E23: 0.066 | F23: 0.16
A24: 1 | B24: 0.0236 | D24: 1 | E24: 0.1242 | F24: 0.1242 | G24: Trealing Edge
