Workbook
Name ℰ: 'Transverse Modulus'!$M$34
Name E_11: 'Single Ply DNV'!$C$44
Name E_CSM: 'Single Ply DNV'!$C$59
Name E22_Brin: 'Single Ply DNV'!$C$49
Name E22_Chamis: 'Single Ply DNV'!$C$50
Name E22_DNV: 'Single Ply DNV'!$C$45
Name E22_HT: 'Single Ply DNV'!$C$48
Name E22_ROM: 'Single Ply DNV'!$C$47
Name EfL: 'Single Ply DNV'!$C$33
Name EfT: 'Single Ply DNV'!$C$34
Name Em: 'Single Ply DNV'!$C$35
Name Ém: 'Transverse Modulus'!$O$34
Name Fiber_Type: 'Fiber Data'!$B$12:$B$41
Name G_12: 'Single Ply DNV'!$C$54
Name G_CSM: 'Single Ply DNV'!$C$60
Name Gf_12: 'Single Ply DNV'!$C$38
Name Gm: 'Single Ply DNV'!$C$39
Name lbs_in3: 'Single Ply DNV'!$E$23
Name n: 'Single Ply DNV'!$O$95
Name n: 'Transverse Modulus'!$B$34
Name ŋ: 'Transverse Modulus'!$K$34
Name Pf: 'Single Ply DNV'!$C$29
Name Pl: 'Single Ply DNV'!$C$32
Name Pm: 'Single Ply DNV'!$C$30
Name PSI: 'Single Ply DNV'!$E$22
Name Q_11: 'Single Ply DNV'!$C$79
Name Q_12: 'Single Ply DNV'!$C$80
Name Q_21: 'Single Ply DNV'!$C$83
Name Q_22: 'Single Ply DNV'!$C$81
Name Q_33: 'Single Ply DNV'!$C$82
Name Q11_CSM: 'Single Ply DNV'!$C$87
Name Q12_CSM: 'Single Ply DNV'!$C$88
Name Q22_CSM: 'Single Ply DNV'!$C$89
Name Q33_CSM: 'Single Ply DNV'!$C$90
Name Resin_Type: 'Matrix Data'!$B$13:$B$61
Name v_12: 'Single Ply DNV'!$C$52
Name v_21: 'Single Ply DNV'!$C$53
Name v_CSM: 'Single Ply DNV'!$C$61
Name vf_12: 'Single Ply DNV'!$C$36
Name vm: 'Single Ply DNV'!$C$37
Name ϴ: 'Single Ply DNV'!$E$95
Name ϕ: 'Single Ply DNV'!$C$28
Name ψ: 'Single Ply DNV'!$C$31

Sheet Single Ply DNV
A1: Single Ply Lamina Design Based on 2022 DNV-RU-Yacht; Part 3, Chapt. 5 - Composite Scantlings (with Alternate Formulas for Comparison)
A3: CK | B3: 45500
A4: This spreadsheet is a work-in-progress and under continual revision. No claim is made to fitness for any particular purpose. Alter as you see fit and use at your own risk.
C6: Legend
B7: Enter or select a value → | C7: User Input
B8: Leave alone → | C8: Conversion Factor
B9: Leave alone → | C9: Calculated Value
B10: Leave alone → | C10: Bad Value - Check User Inputs | F10: Format appears in a 'Calculated Value' if an out-of-range or empty input is made. Revise 'User Input' to correct this.
B11: Leave alone → | C11: DNV Fixed Value
B12: Leave alone → | C12: CK Calc or Estimate
B15: Fiber and Resin Matrix Selection
B17: Fiber | C17: AGY E-glass, generic | I17: Source: | J17: =INDEX('Fiber Data'!D:D,MATCH(C17,'Fiber Data'!B:B,0)) -> MatWeb (Poisson's ratio v12 from AGY)
B18: Resin | C18: West System 105 Epoxy Resin/ 205 Fast Hardener | I18: Source: | J18: =INDEX('Matrix Data'!D:D,MATCH(C18,'Matrix Data'!B:B,0)) -> MatWeb. Also see Gougeon website
B20: Unit Conversions
C21: SI | E21: Imperial
C22: 1 | D22: MPa | E22: 145.03774 | F22: PSI
C23: 1 | D23: g/cm3 | E23: 0.036127 | F23: lbs/in3
B26: Denotations, with values based on fiber and resin matrix selections
C27: SI | E27: Imperial
B28: ϕ | C28: 0.6 | E28: =ϕ*100 -> 60 | F28: % | G28: volume content of reinforcement fiber in laminate
B29: Pf | C29: =INDEX('Fiber Data'!E:E,MATCH(C17,'Fiber Data'!B:B,0)) -> 2.57 | D29: g/cm3 | E29: =Pf*lbs_in3 -> 0.09284639 | F29: lbs/in3 | G29: density of reinforcement fiber
B30: Pm | C30: =INDEX('Matrix Data'!E:E,MATCH(C18,'Matrix Data'!B:B,0)) -> 1.18 | D30: g/cm3 | E30: =Pm*lbs_in3 -> 0.04262986 | F30: lbs/in3 | G30: density of resin matrix
B31: ψ | C31: =ϕ*Pf/(ϕ*Pf+(1-ϕ)*Pm) -> 0.76564052 | E31: =ψ*100 -> 76.564052 | F31: % | G31: mass content of reinforcement fiber in laminate | K31: ϕ*Pf / [ϕPf + (1-ϕ)*Pm]
B32: PL | C32: =ϕ*Pf+(1-ϕ)*Pm -> 2.014 | D32: g/cm3 | E32: =Pl*lbs_in3 -> 0.072759778 | F32: lbs/in3 | G32: density of lamina (fiber + resin) | K32: ϕPf + (1-ϕ)*Pm
B33: EfL | C33: =INDEX('Fiber Data'!S:S,MATCH(C17,'Fiber Data'!B:B,0))*10^3 -> 72400 | D33: MPa | E33: =EfL*PSI -> 10500732 | F33: PSI | G33: Young's modulus of fiber, parallel to fiber
B34: EfT | C34: =INDEX('Fiber Data'!W:W,MATCH(C17,'Fiber Data'!B:B,0))*10^3 -> 72400 | D34: MPa | E34: =EfT*PSI -> 10500732 | F34: PSI | G34: Young's modulus of fiber, perpendicular to fiber
B35: Em | C35: =INDEX('Matrix Data'!V:V,MATCH(C18,'Matrix Data'!B:B,0))*10^3 -> 2810 | D35: MPa | E35: =Em*PSI -> 407556.04 | F35: PSI | G35: Young's modulus of resin matrix
B36: vf12 | C36: =INDEX('Fiber Data'!AA:AA,MATCH(C17,'Fiber Data'!B:B,0)) -> 0.22 | G36: Poisson's ratio of fiber, parallel to fiber (longitudinal Poisson's ratio)
B37: vm | C37: =INDEX('Matrix Data'!AL:AL,MATCH(C18,'Matrix Data'!B:B,0)) -> 0.35 | G37: Poisson's ratio of resin matrix
B38: Gf12 | C38: =INDEX('Fiber Data'!AB:AB,MATCH(C17,'Fiber Data'!B:B,0))*10^3 -> 29672.131 | D38: MPa | E38: =Gf_12*PSI -> 4303578.8 | F38: PSI | G38: Shear modulus of fiber, parallel to fiber (axial shear modulus)
B39: Gm | C39: =Em/(2*(1+vm)) -> 1040.7407 | D39: MPa | E39: =Gm*PSI -> 150946.68 | F39: PSI | G39: Shear modulus of resin matrix (DNV formula) | K39: Em / [2*(1+vm)]
B42: Elastic properties of a single unidirectional lamina (DNV formulas)
C43: SI | E43: Imperial
B44: E11 | C44: =ϕ*EfL+(1-ϕ)*Em -> 44564 | D44: MPa | E44: =E_11*PSI -> 6463461.8 | F44: PSI | G44: Longitudinal Young's modulus of lamina | K44: ϕ*EfL+ (1-ϕ)*Em
B45: E22 DNV | C45: =Em/(1-vm^2)*(1+0.85*ϕ^2)/((1-ϕ)^1.25+(ϕ*(Em/(EfT*(1-vm^2))))) -> 12134.684 | D45: MPa | E45: =E22_DNV*PSI -> 1759987.1 | F45: PSI | G45: Transverse Young's modulus of lamina (DNV) | K45: [Em/(1-vm2)] * [(1 + 0.85*ϕ2) / [(1-ϕ)1.25 + ϕ*Em / EfT*(1-vm2)]]
B46: Alternate formulas for E22:
B47: E22 ROM | C47: =INDEX(_xlfn.ANCHORARRAY('Transverse Modulus'!G36),MATCH(ϕ,_xlfn.ANCHORARRAY('Transverse Modulus'!B36))) -> 6307.9649 | D47: MPa | E47: =C47*PSI -> 914892.97 | F47: PSI | G47: Transverse Young's modulus of lamina (from Rule of Mixtures)
B48: E22 H-T | C48: =INDEX(_xlfn.ANCHORARRAY('Transverse Modulus'!K36),MATCH(ϕ,_xlfn.ANCHORARRAY('Transverse Modulus'!B36))) -> 11746.654 | D48: MPa | E48: =C48*PSI -> 1703708.2 | F48: PSI | G48: Transverse Young's modulus of lamina (Halpin-Tsai)
B49: E22 BRIN | C49: =INDEX(_xlfn.ANCHORARRAY('Transverse Modulus'!O36),MATCH(ϕ,_xlfn.ANCHORARRAY('Transverse Modulus'!B36))) -> 7138.4727 | D49: MPa | E49: =C49*PSI -> 1035347.9 | F49: PSI | G49: Transverse Young's modulus of lamina (Brintrup)
B50: E22 Chamis | C50: =INDEX(_xlfn.ANCHORARRAY('Transverse Modulus'!W36),MATCH(ϕ,_xlfn.ANCHORARRAY('Transverse Modulus'!B36))) -> 10520.932 | D50: MPa | E50: =C50*PSI -> 1525932.1 | F50: PSI | G50: Transverse Young's modulus of lamina (Chamis)
B52: v12 | C52: =ϕ*vf_12+(1-ϕ)*vm -> 0.272 | G52: Longitudinal Poisson's ratio of lamina | K52: ϕ * vf12 + (1 - ϕ) * vm
B53: v21 | C53: =v_12*(E22_DNV/E_11) -> 0.074065032 | G53: Transverse Poisson's ratio of lamina | K53: v12 * (E22 / E11)
B54: G12 | C54: =Gm*(1+0.8*ϕ^0.8)/(((1-ϕ)^1.25)+(Gm/Gf_12)*ϕ) -> 4700.0356 | D54: MPa | E54: =G_12*PSI -> 681682.53 | F54: PSI | G54: Shear modulus of lamina, parallel to fibers | K54: Gm* (1 + 0.8 * ϕ0.8) / [(1 - ϕ)1.25 + (Gm / Gf12) * ϕ]
B57: Elastic properties of a single chopped strand mat lamina (DNV formula with alternate vCSM estimate)
C58: SI | E58: Imperial
B59: ECSM | C59: =(0.375*E_11)+(0.625*E22_DNV) -> 24295.678 | D59: MPa | E59: =C59*PSI -> 3523790.1 | F59: PSI | G59: ECSM = (0.375 * E11) + ( 0.625 * E22) ; DNV uses same formula as Tsai-Hill, but calculates E22 differently
B60: GCSM | C60: =C59/(2*(1+C61)) -> 9490.4991 | D60: MPa | E60: =C60*PSI -> 1376480.5 | F60: PSI | G60: GCSM = Em / (2 * (1 + vCSM)) ; DNV doesn't have formula for vCSM - see below
B61: vCSM | C61: 0.28 | G61: 0.28 per DNV-RU-YACHT Pt.3 Ch.5. p.27
B62: vCSM alt | C62: =(ϕ/2)*vf_12+(1-(ϕ/2))*vm -> 0.311 | G62: vCSM alt =vf12 * 0.5 * ϕ + vm * (1 - 0.5 * ϕ) ; Assumes 50% fiber @ 11 and 50% fiber @ 22
B64: Elastic properties of a single chopped strand mat lamina (Tsai-Hill alternate)
C65: SI | E65: Imperial
B66: ECSM | C66: =(0.375*E_11)+(0.625*C48) -> 24053.159 | D66: MPa | E66: =C66*PSI -> 3488615.8 | F66: PSI | G66: ECSM = (0.375*E11) + ( 0.625*E22) ; Tsai-Hill uses same formula as DNV, but calculates E22 differently
B67: GCSM | C67: =(0.125*E_11)+(0.25*C48) -> 8507.1636 | D67: MPa | E67: =C67*PSI -> 1233859.8 | F67: PSI | G67: GCSM = (0.125*E11) + (0.250*E22) ; Tsai-Hill
B68: vCSM | C68: =C66/(2*C67)-1 -> 0.41370027 | G68: vCSM = [ECSM / ( 2 * GCSM)] - 1 ; Tsai-Hill
B70: Elastic properties of a single chopped strand mat lamina (Pan, UC Davis alternate)
C71: SI | E71: Imperial
B72: ECSM | C72: =EfL*ϕ/PI() + Em*(1-ϕ/PI()) -> 16100.711 | D72: MPa | E72: =C72*PSI -> 2335210.7 | F72: PSI | G72: ECSM = [Ef* ϕ/π] + [Em* (1 - ϕ/π)] ; Pan, UC Davis
B73: GCSM | C73: =C72/(2*(1+C74)) -> 6074.9522 | D73: MPa | E73: =C73*PSI -> 881097.32 | F73: PSI | G73: GCSM = ECSM/ [2 * (1 + vCSM)] ; Pan, UC Davis
B74: vCSM | C74: =(vf_12*ϕ/PI()) + (vm*(1- ϕ/PI())) -> 0.32517183 | G74: vCSM = [vf12 * ϕ/π] + [vm * (1 - ϕ/π)] ; Pan, UC Davis
B77: Single UD ply stiffness matrix in local coordinate system (DNV formulas)
C78: SI | E78: Imperial
B79: Q11 | C79: =E_11/(1-(v_12*v_21)) -> 45480.231 | D79: MPa | E79: =Q_11*PSI -> 6596349.8 | F79: PSI | G79: E11 / [1 - (v12 * v21)]
B80: Q12 | C80: =(v_21*E_11) / (1 - (v_12*v_21)) -> 3368.4947 | D80: MPa | E80: =Q_12*PSI -> 488558.86 | F80: PSI | G80: (v21 * E11) / [1 - (v12 * v21)]
B81: Q22 | C81: =E22_DNV/(1-(v_12*v_21)) -> 12384.172 | D81: MPa | E81: =Q_22*PSI -> 1796172.3 | F81: PSI | G81: E22 / [(1 - (v12 * v21)]
B82: Q33 | C82: =G_12 -> 4700.0356 | D82: MPa | E82: =Q_33*PSI -> 681682.53 | F82: PSI | G82: = G12
B83: Q21 | C83: =Q_12 -> 3368.4947 | D83: MPa | E83: =Q_21*PSI -> 488558.86 | F83: PSI | G83: = Q12
B85: Single chopped strand mat ply stiffness matrix in local coordinate system (DNV formulas)
C86: SI | E86: Imperial
B87: Q11CSM | C87: =E_CSM/(1-v_CSM^2) -> 26362.497 | D87: MPa | E87: =Q11_CSM*PSI -> 3823557 | F87: PSI | G87: ECSM / (1 - vCSM2)
B88: Q12CSM | C88: =(v_CSM*E_CSM)/(1-v_CSM^2) -> 7381.4993 | D88: MPa | E88: =Q12_CSM*PSI -> 1070596 | F88: PSI | G88: (vCSM * ECSM) / (1 - vCSM2)
B89: Q22CSM | C89: =E_CSM/(1-v_CSM^2) -> 26362.497 | D89: MPa | E89: =Q22_CSM*PSI -> 3823557 | F89: PSI | G89: ECSM / (1 - vCSM2)
B90: Q33CSM | C90: =G_CSM -> 9490.4991 | D90: MPa | E90: =Q33_CSM*PSI -> 1376480.5 | F90: PSI | G90: = GCSM
B91: Q21CSM | C91: =Q12_CSM -> 7381.4993 | D91: MPa | E91: =C91*PSI -> 1070596 | F91: PSI | G91: = Q12 CSM
B93: Single UD ply stiffness matrix transformed to global coordinate system (DNV formulas)
O94: n
B95: ϴ | C95: 0 | D95: deg | E95: =RADIANS(C95) -> 0 | F95: rad | G95: Angle of rotation off of primary axis '11'. Allowable range is 0-90 degrees | O95: 16 | P95: ϴdeg | Q95: ϴrad | R95: Q11′ | T95: Q22′ | V95: Q23' = Q32' | X95: Q13' = Q31' | Z95: Q12' = Q21' | AB95: Q33'
C96: SI | E96: Imperial | O96: {=_xlfn.SEQUENCE(n+1,1,0,1/n)} -> 0 | P96: {=_xlfn.ANCHORARRAY(O96)*90} -> 0 | Q96: {=RADIANS(_xlfn.ANCHORARRAY(P96))} -> 0 | R96: {=(Q_11*COS(_xlfn.ANCHORARRAY(Q96))^4)+2*(Q_12+2*Q_33)*SIN(_xlfn.ANCHORARRAY(Q96))^2*COS(_xlfn.ANCHORARRAY(Q96))^2+Q_22*SIN(_xlfn.ANCHORARRAY(Q96))^4} -> 45480.231 | S96: MPa | T96: {=(Q_11*SIN(_xlfn.ANCHORARRAY(Q96))^4)+2*(Q_12+2*Q_33)*SIN(_xlfn.ANCHORARRAY(Q96))^2*COS(_xlfn.ANCHORARRAY(Q96))^2+Q_22*COS(_xlfn.ANCHORARRAY(Q96))^4} -> 12384.172 | U96: MPa | V96: {=(Q_22-Q_12-2*Q_33)*COS(_xlfn.ANCHORARRAY(Q96))^3*SIN(_xlfn.ANCHORARRAY(Q96))-(Q_11-Q_12-2*Q_33)*COS(_xlfn.ANCHORARRAY(Q96))*SIN(_xlfn.ANCHORARRAY(Q96))^3} -> 0 | W96: MPa | X96: {=(Q_22-Q_12-2*Q_33)*COS(_xlfn.ANCHORARRAY(Q96))*SIN(_xlfn.ANCHORARRAY(Q96))^3-(Q_11-Q_12-2*Q_33)*COS(_xlfn.ANCHORARRAY(Q96))^3*SIN(_xlfn.ANCHORARRAY(Q96))} -> 0 | Y96: MPa | Z96: {=(Q_11+Q_22-4*Q_33)*SIN(_xlfn.ANCHORARRAY(Q96))^2*COS(_xlfn.ANCHORARRAY(Q96))^2+Q_12*(SIN(_xlfn.ANCHORARRAY(Q96))^4+COS(_xlfn.ANCHORARRAY(Q96))^4)} -> 3368.4947 | AA96: MPa | AB96: {=(Q_11+Q_22-2*Q_12-2*Q_33)*SIN(_xlfn.ANCHORARRAY(Q96))^2*COS(_xlfn.ANCHORARRAY(Q96))^2+Q_33*(SIN(_xlfn.ANCHORARRAY(Q96))^4+COS(_xlfn.ANCHORARRAY(Q96))^4)} -> 4700.0356 | AC96: MPa
B97: Q11′ | C97: =(Q_11*COS(ϴ)^4)+2*(Q_12+2*Q_33)*SIN(ϴ)^2*COS(ϴ)^2+Q_22*SIN(ϴ)^4 -> 45480.231 | D97: MPa | E97: =C97*PSI -> 6596349.8 | F97: PSI | G97: Q11 * cos4ϴ + 2 * (Q12 + 2 * Q33) * sin2ϴ * cos2ϴ + Q22 * sin4ϴ | O97: 0.0625 | P97: 5.625 | Q97: 0.09817477 | R97: 44854.669 | T97: 12394.542 | V97: -67.79133 | X97: -3160.569 | Z97: 3676.0906 | AB97: 5007.6315
B98: Q22′ | C98: =(Q_11*SIN(ϴ)^4)+2*(Q_12+2*Q_33)*SIN(ϴ)^2*COS(ϴ)^2+Q_22*COS(ϴ)^4 -> 12384.172 | D98: MPa | E98: =C98*PSI -> 1796172.3 | F98: PSI | G98: Q11 * sin4ϴ + 2 * (Q12 + 2 * Q33) * sin2ϴ * cos2ϴ + Q22 * cos4ϴ | O98: 0.125 | P98: 11.25 | Q98: 0.19634954 | R98: 43037.032 | T98: 12460.261 | V98: -308.97431 | X98: -6023.6824 | Z98: 4552.0495 | AB98: 5883.5904
B99: Q23′ = Q32′ | C99: =(Q_22-Q_12-2*Q_33)*COS(ϴ)^3*SIN(ϴ)-(Q_11-Q_12-2*Q_33)*COS(ϴ)*SIN(ϴ)^3 -> 0 | D99: MPa | E99: =C99*PSI -> 0 | F99: PSI | G99: (Q22 - Q12 - 2 * Q33) * cos3ϴ * sinϴ - (Q11 - Q12 - 2 * Q33) * cosϴ * sin3ϴ | O99: 0.1875 | P99: 16.875 | Q99: 0.29452431 | R99: 40196.865 | T99: 12678.498 | V99: -863.48331 | X99: -8330.1092 | Z99: 5863.0147 | AB99: 7194.5556
B100: Q13′ = Q31′ | C100: =(Q_22-Q_12-2*Q_33)*COS(ϴ)*SIN(ϴ)^3-(Q_11-Q_12-2*Q_33)*COS(ϴ)^3*SIN(ϴ) -> 0 | D100: MPa | E100: =C100*PSI -> 0 | F100: PSI | G100: (Q22 - Q12 - 2 * Q33) * cosϴ * sin3ϴ - (Q11 - Q12 - 2 * Q33) * cos3ϴ * sinϴ | O100: 0.25 | P100: 22.5 | Q100: 0.39269908 | R100: 36592.516 | T100: 13190.069 | V100: -1809.7031 | X100: -9891.5207 | Z100: 7409.4036 | AB100: 8740.9444
B101: Q12′ = Q21′ | C101: =(Q_11+Q_22-4*Q_33)*SIN(ϴ)^2*COS(ϴ)^2+Q_12*(SIN(ϴ)^4+COS(ϴ)^4) -> 3368.4947 | D101: MPa | E101: =C101*PSI -> 488558.86 | F101: PSI | G101: (Q11 + Q22 - 4 * Q33) * sin2ϴ * cos2ϴ + Q12 * (sin4ϴ + cos4ϴ) | O101: 0.3125 | P101: 28.125 | Q101: 0.49087385 | R101: 32538.496 | T101: 14151.311 | V101: -3146.2788 | X101: -10612.905 | Z101: 8955.7924 | AB101: 10287.333
B102: Q33′ | C102: =(Q_11+Q_22-2*Q_12-2*Q_33)*SIN(ϴ)^2*COS(ϴ)^2+Q_33*(SIN(ϴ)^4+COS(ϴ)^4) -> 4700.0356 | D102: MPa | E102: =C102*PSI -> 681682.53 | F102: PSI | G102: (Q11 + Q22 - 2 * Q12 - 2 * Q33) * sin2ϴ * cos2ϴ + Q33 * (sin4ϴ + cos4ϴ) | O102: 0.375 | P102: 33.75 | Q102: 0.58904862 | R102: 28366.595 | T102: 15701.282 | V102: -4786.8388 | X102: -10501.547 | Z102: 10266.758 | AB102: 11598.298
O103: 0.4375 | P103: 39.375 | Q103: 0.68722339 | R103: 24386.34 | T103: 17929.619 | V103: -6568.6429 | X103: -9661.4207 | Z103: 11142.717 | AB103: 12474.257
O104: 0.5 | P104: 45 | Q104: 0.78539816 | R104: 20850.384 | T104: 20850.384 | V104: -8274.0147 | X104: -8274.0147 | Z104: 11450.312 | AB104: 12781.853
O105: 0.5625 | P105: 50.625 | Q105: 0.88357293 | R105: 17929.619 | T105: 24386.34 | V105: -9661.4207 | X105: -6568.6429 | Z105: 11142.717 | AB105: 12474.257
O106: 0.625 | P106: 56.25 | Q106: 0.9817477 | R106: 15701.282 | T106: 28366.595 | V106: -10501.547 | X106: -4786.8388 | Z106: 10266.758 | AB106: 11598.298
O107: 0.6875 | P107: 61.875 | Q107: 1.0799225 | R107: 14151.311 | T107: 32538.496 | V107: -10612.905 | X107: -3146.2788 | Z107: 8955.7924 | AB107: 10287.333
O108: 0.75 | P108: 67.5 | Q108: 1.1780972 | R108: 13190.069 | T108: 36592.516 | V108: -9891.5207 | X108: -1809.7031 | Z108: 7409.4036 | AB108: 8740.9444
O109: 0.8125 | P109: 73.125 | Q109: 1.276272 | R109: 12678.498 | T109: 40196.865 | V109: -8330.1092 | X109: -863.48331 | Z109: 5863.0147 | AB109: 7194.5556
O110: 0.875 | P110: 78.75 | Q110: 1.3744468 | R110: 12460.261 | T110: 43037.032 | V110: -6023.6824 | X110: -308.97431 | Z110: 4552.0495 | AB110: 5883.5904
O111: 0.9375 | P111: 84.375 | Q111: 1.4726216 | R111: 12394.542 | T111: 44854.669 | V111: -3160.569 | X111: -67.79133 | Z111: 3676.0906 | AB111: 5007.6315
O112: 1 | P112: 90 | Q112: 1.5707963 | R112: 12384.172 | T112: 45480.231 | V112: -2.0038323e-12 | X112: -2.354699e-14 | Z112: 3368.4947 | AB112: 4700.0356

Sheet Transverse Modulus
A1: Transverse Young's Modulus for Single Ply Uni-D Lamina
A3: CK | B3: 45500
A4: This spreadsheet is a work-in-progress and under continual revision. No claim is made to fitness for any particular purpose. Alter as you see fit and use at your own risk.
C6: Legend
B7: Leave alone → | C7: Calculated Value
B8: Leave alone → | C8: Conversion Factor
B9: Enter value → | C9: User Input
B10: Revise value → | C10: Bad User Input | E10: Value is outside typical range for ℰ as used in the Halpin-Tsai equation (values ≈≤ 2 are typical for E22; values ≈≥ 1 are typical for G12)
B13: Fiber and Resin Matrix selected in worksheet Single Ply DNV
B15: Fiber | C15: ='Single Ply DNV'!C17 -> AGY E-glass, generic | H15: Resin | I15: ='Single Ply DNV'!C18 -> West System 105 Epoxy Resin/ 205 Fast Hardener
B17: Unit Conversions
C18: SI | E18: Imperial
C19: 1 | D19: MPa | E19: 145.03774 | F19: PSI
C20: 1 | D20: g/cm3 | E20: 0.036127 | F20: lbs/in3
B23: Definitions and Associated Values
C24: SI | E24: Imperial
B25: ϕ | G25: volume content of reinforcement fiber in a laminate
B26: EfL | C26: =VLOOKUP(C15,'Fiber Data'!$B$12:$AS$31,18,FALSE)*10^3 -> 72400 | D26: MPa | E26: =EfL*PSI -> 10500732 | F26: PSI | G26: Young's modulus of fiber, parallel to fiber
B27: Em | C27: =INDEX('Matrix Data'!V:V,MATCH(I15,'Matrix Data'!B:B,0))*10^3 -> 2810 | D27: MPa | E27: =Em*PSI -> 407556.04 | F27: PSI | G27: Young's modulus of resin matrix
B28: vm | C28: =INDEX('Matrix Data'!AL:AL,MATCH(I15,'Matrix Data'!B:B,0)) -> 0.35 | G28: Poisson's ratio of resin matrix
B29: E11 | G29: Longitudinal Young's modulus of lamina by Rule of Mixtures: ϕEfL + (1-ϕ)Em
B30: E22 | G30: Transverse Young's modulus of lamina (per methods shown)
B33: n intervals | C33: E11 ( Rule of Mixtures) ϕEfL + (1-ϕ)Em | G33: E22 (from Rule of Mixtures) EfLEm / (ϕEm+ (1-ϕ)EfL) | K33: E22 (Halpin-Tsai) Em(1 + ℰŋϕ) / (1 - ŋϕ) ŋ = (EfL/Em - 1) / (EfL/Em+ ℰ) | O33: E22 (Brintrup) ÉmEfL / (EfL(1-ϕ) + ϕÉm) Ém = Em/ (1 - vm2) | S33: E22 (DNV) [ Em / (1-vm2) ] * [ (1 + 0.85ϕ2) / [(1-ϕ)1.25 + (ϕEm/ EfT(1-vm2)] ] | W33: E22 (Chamis) Em / [1 - ϕ0.5(1 - Gm/Gf12)]
B34: 26 | K34: =(EfL/Em-1)/(EfL/Em+ℰ) -> 0.89195078 | L34: ŋ | M34: 2 | N34: ℰ | O34: =Em/(1-vm^2) -> 3202.2792 | P34: Ém | S34: Ignore the last value if '#NUM!' error appears
B35: ϕ | C35: SI | E35: Imperial | G35: SI | I35: Imperial | K35: SI | M35: Imperial | O35: SI | Q35: Imperial | S35: SI | U35: Imperial | W35: SI | Y35: Imperial
B36: {=_xlfn.SEQUENCE(n+1,1,0,1/n)} -> 0 | C36: {=(_xlfn.ANCHORARRAY(B36)*EfL)+(1-_xlfn.ANCHORARRAY(B36))*Em} -> 2810 | D36: MPa | E36: {=_xlfn.ANCHORARRAY(C36)*PSI} -> 407556.04 | F36: PSI | G36: {=EfL*Em/(_xlfn.ANCHORARRAY(B36)*Em+(1-_xlfn.ANCHORARRAY(B36))*EfL)} -> 2810 | H36: MPa | I36: {=_xlfn.ANCHORARRAY(G36)*PSI} -> 407556.04 | J36: PSI | K36: {=Em*(1+ℰ*ŋ*_xlfn.ANCHORARRAY(B36))/(1-ŋ*_xlfn.ANCHORARRAY(B36))} -> 2810 | L36: MPa | M36: {=_xlfn.ANCHORARRAY(K36)*PSI} -> 407556.04 | N36: PSI | O36: {=Ém*EfL/(EfL*(1-_xlfn.ANCHORARRAY(B36))+_xlfn.ANCHORARRAY(B36)*Ém)} -> 3202.2792 | P36: MPa | Q36: {=+_xlfn.ANCHORARRAY(O36)*PSI} -> 464451.33 | R36: PSI | S36: {=Em/(1-vm^2)*(1+0.85*_xlfn.ANCHORARRAY(B36)^2)/((1-_xlfn.ANCHORARRAY(B36))^1.25+(_xlfn.ANCHORARRAY(B36)*(Em/(EfT*(1-vm^2)))))} -> 3202.2792 | T36: MPa | U36: {=_xlfn.ANCHORARRAY(S36)*PSI} -> 464451.33 | V36: PSI | W36: {=Em/(1-(SQRT(_xlfn.ANCHORARRAY(B36))*(1-Gm/Gf_12)))} -> 2810 | X36: MPa | Y36: {=_xlfn.ANCHORARRAY(W36)*PSI} -> 407556.04 | Z36: PSI
B37: 0.038461538 | C37: 5486.5385 | E37: 795755.13 | G37: 2917.87 | I37: 423201.27 | K37: 3109.4715 | M37: 450990.71 | O37: 3324.4886 | Q37: 482176.31 | S37: 3361.4091 | U37: 487531.17 | W37: 3465.8728 | Y37: 502682.36
B38: 0.076923077 | C38: 8163.0769 | E38: 1183954.2 | G38: 3034.3525 | I38: 440095.63 | K38: 3431.0038 | M38: 497625.04 | O38: 3456.396 | Q38: 501307.86 | S38: 3543.7301 | U38: 513974.59 | W38: 3836.8172 | Y38: 556483.29
B39: 0.11538462 | C39: 10839.615 | E39: 1572153.3 | G39: 3160.5217 | I39: 458394.92 | K39: 3777.128 | M39: 547826.1 | O39: 3599.2033 | Q39: 522020.31 | S39: 3752.5575 | U39: 544262.45 | W39: 4180.1097 | Y39: 606273.65
B40: 0.15384615 | C40: 13516.154 | E40: 1960352.4 | G40: 3297.6385 | I40: 478282.02 | K40: 4150.7773 | M40: 602019.35 | O40: 3754.32 | Q40: 544518.08 | S40: 3991.8275 | U40: 578965.64 | W40: 4521.1364 | Y40: 655735.4
B41: 0.19230769 | C41: 16192.692 | E41: 2348551.5 | G41: 3447.1922 | I41: 499972.95 | K41: 4555.3712 | M41: 660700.74 | O41: 3923.409 | Q41: 569042.37 | S41: 4266.2449 | U41: 618766.5 | W41: 4871.2646 | Y41: 706517.2
B42: 0.23076923 | C42: 18869.231 | E42: 2736750.5 | G42: 3610.9553 | I42: 523724.79 | K42: 4994.9199 | M42: 724451.88 | O42: 4108.4475 | Q42: 595879.93 | S42: 4581.4732 | U42: 664486.51 | W42: 5237.9944 | Y42: 759706.86
B43: 0.26923077 | C43: 21545.769 | E43: 3124949.6 | G43: 3791.0541 | I43: 549845.91 | K43: 5474.1576 | M43: 793959.44 | O43: 4311.8037 | Q43: 625374.26 | S43: 4944.3848 | U43: 717122.39 | W43: 5627.5991 | Y43: 816214.24
B44: 0.30769231 | C44: 24222.308 | E44: 3513148.7 | G44: 3990.0609 | I44: 578709.41 | K44: 5998.7142 | M44: 870039.94 | O44: 4536.3393 | Q44: 657940.39 | S44: 5363.3897 | U44: 777893.9 | W44: 6046.1868 | Y44: 876925.25
B45: 0.34615385 | C45: 26898.846 | E45: 3901347.8 | G45: 4211.1186 | I45: 610771.12 | K45: 6575.3371 | M45: 953672.02 | O45: 4785.5448 | Q45: 694084.59 | S45: 5848.8765 | U45: 848307.82 | W45: 6500.3001 | Y45: 942788.83
B46: 0.38461538 | C46: 29575.385 | E46: 4289546.9 | G46: 4458.107 | I46: 646593.76 | K46: 7212.1829 | M46: 1046038.7 | O46: 5063.7222 | Q46: 734430.82 | S46: 6413.8106 | U46: 930244.59 | W46: 6997.3826 | Y46: 1014884.6
B47: 0.42307692 | C47: 32251.923 | E47: 4677746 | G47: 4735.8731 | I47: 686880.32 | K47: 7919.2062 | M47: 1148583.8 | O47: 5376.2358 | Q47: 779757.08 | S47: 7074.5572 | U47: 1026077.8 | W47: 7546.2482 | Y47: 1094490.8
B48: 0.46153846 | C48: 34928.462 | E48: 5065945.1 | G48: 5050.5519 | I48: 732520.62 | K48: 8708.6831 | M48: 1263087.7 | O48: 5729.8609 | Q48: 831046.06 | S48: 7852.0334 | U48: 1138841.2 | W48: 8157.6407 | Y48: 1183165.8
... B62: 1 | C62: 72400 | E62: 10500732 | G62: 72400 | I62: 10500732 | K62: 72400 | M62: 10500732 | O62: 72400 | Q62: 10500732 | S62: 133940 | U62: 19426355 | W62: 80114.754 | Y62: 11619663

Sheet Fiber Data
A1: Composite Fiber Physical and Mechanical Properties
A3: CK | B3: 45500
A4: This spreadsheet is a work-in-progress and under continual revision. No claim is made to fitness for any particular purpose. Alter as you see fit and use at your own risk.
B6: Values taken for materials at +/-22C (72F) when multiple temperature conditions were available. | D6: Value from Source
B7: Values taken as-written for materials when temperature conditions were not specified. | D7: Calculated Value
B8: Estimated or assumed values are based on accepted values from technical literature. | D8: Estimated or Assumed Value
B10: Description | C10: Notes | D10: Source | E10: Density | I10: Moisture Absorption at Equilibrium | N10: Tensile Strength, Ultimate | R10: Elongation at Break | S10: Tensile Modulus, parallel to fiber | W10: Tensile Modulus, perpendicular to fiber | AA10: Poisson's Ratio | AB10: Shear Modulus, parallel to fiber | AF10: Linear Density | AJ10: Tenacity
E11: SI | G11: Imp. | I11: % | J11: Notes | N11: SI | P11: Imp. | R11: % | S11: SI | U11: Imp. | W11: SI | Y11: Imp. | AB11: SI | AD11: Imp. | AJ11: SI | AL11: Imp.
B12: Aramid Fibers:
B13: DuPont Kevlar® 29 Aramid Fiber | C13: 1500 Denier; 1000 Filaments | D13: DuPont Aramid Technical Guide | E13: 1.44 | F13: g/cm3 | G13: =E13*lbs_in3 -> 0.05202288 | H13: lb/in3 | I13: 0.045 | J13: bone dry then condition @75F (24C) to 55% RH | N13: 2920 | O13: MPa | P13: =N13*PSI -> 423510.19 | Q13: psi | R13: 0.036 | S13: 70.5 | T13: GPa | U13: =S13*PSI -> 10225.161 | V13: ksi | W13: 7 | X13: GPa | Y13: =W13*PSI -> 1015.2642 | Z13: ksi | AA13: 0.36 | AB13: 12 | AC13: GPa | AD13: =AB13*PSI -> 1740.4529 | AE13: ksi | AF13: =AH13*(1/0.9) -> 1666.6667 | AG13: dtex | AH13: 1500 | AI13: denier | AJ13: 2.03 | AK13: N/tex | AL13: =AJ13*11.33 -> 22.9999 | AM13: g/denier
B14: DuPont Kevlar® 49 Aramid Fiber | C14: 1140 Denier; 768 Filaments | D14: DuPont Aramid Technical Guide | E14: 1.44 | F14: g/cm3 | G14: =E14*lbs_in3 -> 0.05202288 | H14: lb/in3 | I14: 0.035 | J14: as-shipped or after conditioning | N14: 3000 | O14: MPa | P14: =N14*PSI -> 435113.21 | Q14: psi | R14: 0.024 | S14: 112.4 | T14: GPa | U14: =S14*PSI -> 16302.242 | V14: ksi | W14: 7 | X14: GPa | Y14: =W14*PSI -> 1015.2642 | Z14: ksi | AA14: 0.36 | AB14: 12 | AC14: GPa | AD14: =AB14*PSI -> 1740.4529 | AE14: ksi | AF14: =AH14*(1/0.9) -> 1266.6667 | AG14: dtex | AH14: 1140 | AI14: denier | AJ14: 2.08 | AK14: N/tex | AL14: =AJ14*11.33 -> 23.5664 | AM14: g/denier
B15: DuPont Kevlar® 49 Aramid Fiber, ALT | C15: KK Yeung & KP Rav article: as provided by Dupont, USA | D15: Polymers & Polymer Composites, Vol 20 (2012), No 5, p.41. 'DuPont USA' | E15: 1.467 | F15: g/cm3 | G15: =E15*lbs_in3 -> 0.052998309 | H15: lb/in3 | N15: 2757.9 | O15: MPa | P15: =N15*PSI -> 399999.58 | Q15: psi | R15: 0.024 | S15: 151.7 | T15: GPa | U15: =S15*PSI -> 22002.225 | V15: ksi | W15: 7 | X15: GPa | Y15: =W15*PSI -> 1015.2642 | Z15: ksi | AA15: 0.35 | AB15: 12 | AC15: GPa | AD15: =AB15*PSI -> 1740.4529 | AE15: ksi
B16: Aramid, DNV generic value | C16: DNV generic constituent materials property | D16: 2022 DNV-RU-Yacht; Part 3, Chapt. 5, Table 2 | E16: 1.45 | F16: g/cm3 | G16: =E16*lbs_in3 -> 0.05238415 | H16: lb/in3 | S16: 130 | T16: GPa | U16: =S16*PSI -> 18854.906 | V16: ksi | W16: 5.4 | X16: GPa | Y16: =W16*PSI -> 783.20379 | Z16: ksi | AA16: 0.35 | AB16: 12 | AC16: GPa | AD16: =AB16*PSI -> 1740.4529 | AE16: ksi
B17: Glass Fibers:
B18: AGY E-glass, generic | C18: 'from OC information' according to MatWeb | D18: MatWeb (Poisson's ratio v12 from AGY) | E18: =(2.54+2.6)/2 -> 2.57 | F18: g/cm3 | G18: =E18*lbs_in3 -> 0.09284639 | H18: lb/in3 | I18: 0 | N18: =(3450+3790)/2 -> 3620 | O18: MPa | P18: =N18*PSI -> 525036.61 | Q18: psi | R18: 0.048 | S18: 72.4 | T18: GPa | U18: =S18*PSI -> 10500.732 | V18: ksi | W18: =S18 -> 72.4 | X18: GPa | Y18: =W18*PSI -> 10500.732 | Z18: ksi | AA18: 0.22 | AB18: =S18/(2*(1+AA18)) -> 29.672131 | AC18: GPa | AD18: =AB18*PSI -> 4303.5788 | AE18: ksi
B19: AGY ADVANTEX® E-CR Generic Glass Fiber | C19: OC/AGY E-CR glass. Silanes and starch oil binder | D19: MatWeb (Poisson's ratio v12 from AGY) | E19: 2.624 | F19: g/cm3 | G19: =E19*lbs_in3 -> 0.094797248 | H19: lb/in3 | I19: 0 | N19: =(3200+3750)/2 -> 3475 | O19: MPa | P19: =N19*PSI -> 504006.14 | Q19: psi | R19: 0.045 | S19: 80 | T19: GPa | U19: =S19*PSI -> 11603.019 | V19: ksi | W19: =S19 -> 80 | X19: GPa | Y19: =W19*PSI -> 11603.019 | Z19: ksi | AA19: 0.22 | AB19: =S19/(2*(1+AA19)) -> 32.786885 | AC19: GPa | AD19: =AB19*PSI -> 4755.3357 | AE19: ksi
B20: AGY S-2 Glass® Fiber | C20: AGY is the trademark holder for S-2 Glass® | D20: AGY technical document | E20: =(2.46+2.49)/2 -> 2.475 | F20: g/cm3 | G20: =E20*lbs_in3 -> 0.089414325 | H20: lb/in3 | I20: 0 | N20: =(4590+4830)/2 -> 4710 | O20: MPa | P20: =N20*PSI -> 683127.75 | Q20: psi | R20: =0.01*(5.4+5.8)/2 -> 0.056 | S20: =(86+90)/2 -> 88 | T20: GPa | U20: =S20*PSI -> 12763.321 | V20: ksi | W20: =S20 -> 88 | X20: GPa | Y20: =W20*PSI -> 12763.321 | Z20: ksi | AA20: 0.23 | AB20: =S20/(2*(1+AA20)) -> 35.772358 | AC20: GPa | AD20: =AB20*PSI -> 5188.3418 | AE20: ksi
B21: E-Glass, DNV generic value | C21: DNV generic constituent materials property | D21: 2022 DNV-RU-Yacht; Part 3, Chapt. 5, Table 2 | E21: 2.54 | F21: g/cm3 | G21: =E21*lbs_in3 -> 0.09176258 | H21: lb/in3 | S21: 73 | T21: GPa | U21: =S21*PSI -> 10587.755 | V21: ksi | W21: 73 | X21: GPa | Y21: =W21*PSI -> 10587.755 | Z21: ksi | AA21: 0.18 | AB21: 30 | AC21: GPa | AD21: =AB21*PSI -> 4351.1321 | AE21: ksi
B22: Carbon Fibers:
B23: Hexcel® HexTow® AS4 3-12K SM CF | C23: untwisted standard-modulus carbon fiber tow | D23: Hexcel datasheet | E23: 1.79 | F23: g/cm3 | G23: =E23*lbs_in3 -> 0.06466733 | H23: lb/in3 | N23: 4501 | O23: MPa | P23: =N23*PSI -> 652814.86 | Q23: psi | R23: 0.018 | S23: 231 | T23: GPa | U23: =S23*PSI -> 33503.717 | V23: ksi | W23: 15 | X23: GPa | Y23: =W23*PSI -> 2175.5661 | Z23: ksi | AA23: 0.27 | AB23: 23 | AC23: GPa | AD23: =AB23*PSI -> 3335.868 | AE23: ksi
B24: Toho G30-400 1K HTA-7W EP01 CF Tow | C24: Standard Modulus; Twisted; PAN-based fiber | D24: MatWeb | E24: 1.78 | F24: g/cm3 | G24: =E24*lbs_in3 -> 0.06430606 | H24: lb/in3 | N24: 3930 | O24: MPa | P24: =N24*PSI -> 569998.31 | Q24: psi | R24: 0.0165 | S24: 234 | T24: GPa | U24: =S24*PSI -> 33938.831 | V24: ksi | W24: 15 | X24: GPa | Y24: =W24*PSI -> 2175.5661 | Z24: ksi | AA24: 0.27 | AB24: 23 | AC24: GPa | AD24: =AB24*PSI -> 3335.868 | AE24: ksi | AF24: 680 | AG24: dtex | AH24: =0.9*AF24 -> 612 | AI24: denier
B25: Toho G30-500 3K HTA-7W EP01 CF Tow | C25: Standard Modulus; Twisted; PAN-based fiber | D25: MatWeb | E25: 1.78 | F25: g/cm3 | G25: =E25*lbs_in3 -> 0.06430606 | H25: lb/in3 | N25: 3930 | O25: MPa | P25: =N25*PSI -> 569998.31 | Q25: psi | R25: 0.0165 | S25: 234 | T25: GPa | U25: =S25*PSI -> 33938.831 | V25: ksi | W25: 15 | X25: GPa | Y25: =W25*PSI -> 2175.5661 | Z25: ksi | AA25: 0.27 | AB25: 23 | AC25: GPa | AD25: =AB25*PSI -> 3335.868 | AE25: ksi | AF25: 2020 | AG25: dtex | AH25: =0.9*AF25 -> 1818 | AI25: denier
B26: Toho G30-500 3K HTA-7C EP01 CF Tow | C26: Standard Modulus; Collimated; PAN-based fiber | D26: MatWeb | E26: 1.78 | F26: g/cm3 | G26: =E26*lbs_in3 -> 0.06430606 | H26: lb/in3 | N26: 3930 | O26: MPa | P26: =N26*PSI -> 569998.31 | Q26: psi | R26: 0.0165 | S26: 234 | T26: GPa | U26: =S26*PSI -> 33938.831 | V26: ksi | W26: 15 | X26: GPa | Y26: =W26*PSI -> 2175.5661 | Z26: ksi | AA26: 0.27 | AB26: 23 | AC26: GPa | AD26: =AB26*PSI -> 3335.868 | AE26: ksi | AF26: 2020 | AG26: dtex | AH26: =0.9*AF26 -> 1818 | AI26: denier
B27: Toho G30-500 3K HTA-7C EP03 CF Tow | C27: Standard Modulus; Collimated; PAN-based fiber | D27: MatWeb | E27: 1.75 | F27: g/cm3 | G27: =E27*lbs_in3 -> 0.06322225 | H27: lb/in3 | N27: 4410 | O27: MPa | P27: =N27*PSI -> 639616.42 | Q27: psi | R27: 0.019 | S27: 234 | T27: GPa | U27: =S27*PSI -> 33938.831 | V27: ksi | W27: 15 | X27: GPa | Y27: =W27*PSI -> 2175.5661 | Z27: ksi | AA27: 0.27 | AB27: 23 | AC27: GPa | AD27: =AB27*PSI -> 3335.868 | AE27: ksi | AF27: 2020 | AG27: dtex | AH27: =0.9*AF27 -> 1818 | AI27: denier
B28: Toho G30-500 6K HTA-7C EP01 CF Tow | C28: Standard Modulus; Collimated; PAN-based fiber | D28: MatWeb | E28: 1.78 | F28: g/cm3 | G28: =E28*lbs_in3 -> 0.06430606 | H28: lb/in3 | N28: 3930 | O28: MPa | P28: =N28*PSI -> 569998.31 | Q28: psi | R28: 0.0165 | S28: 234 | T28: GPa | U28: =S28*PSI -> 33938.831 | V28: ksi | W28: 15 | X28: GPa | Y28: =W28*PSI -> 2175.5661 | Z28: ksi | AA28: 0.27 | AB28: 23 | AC28: GPa | AD28: =AB28*PSI -> 3335.868 | AE28: ksi | AF28: 4050 | AG28: dtex | AH28: =0.9*AF28 -> 3645 | AI28: denier
B29: Toho G30-500 6K HTA-7C EP03 CF Tow | C29: Standard Modulus; Collimated; PAN-based fiber | D29: MatWeb | E29: 1.75 | F29: g/cm3 | G29: =E29*lbs_in3 -> 0.06322225 | H29: lb/in3 | N29: 4410 | O29: MPa | P29: =N29*PSI -> 639616.42 | Q29: psi | R29: 0.019 | S29: 234 | T29: GPa | U29: =S29*PSI -> 33938.831 | V29: ksi | W29: 15 | X29: GPa | Y29: =W29*PSI -> 2175.5661 | Z29: ksi | AA29: 0.27 | AB29: 23 | AC29: GPa | AD29: =AB29*PSI -> 3335.868 | AE29: ksi | AF29: 4050 | AG29: dtex | AH29: =0.9*AF29 -> 3645 | AI29: denier
B30: Toho G30-500 12K HTA-7C EP01 CF Tow | C30: Standard Modulus; Collimated; PAN-based fiber | D30: MatWeb | E30: 1.76 | F30: g/cm3 | G30: =E30*lbs_in3 -> 0.06358352 | H30: lb/in3 | N30: 3930 | O30: MPa | P30: =N30*PSI -> 569998.31 | Q30: psi | R30: 0.0165 | S30: 234 | T30: GPa | U30: =S30*PSI -> 33938.831 | V30: ksi | W30: 15 | X30: GPa | Y30: =W30*PSI -> 2175.5661 | Z30: ksi | AA30: 0.27 | AB30: 23 | AC30: GPa | AD30: =AB30*PSI -> 3335.868 | AE30: ksi | AF30: 8100 | AG30: dtex | AH30: =0.9*AF30 -> 7290 | AI30: denier
B31: Toho G30-500 12K HTA-7C EP03 CF Tow | C31: Standard Modulus; Collimated; PAN-based fiber | D31: MatWeb | E31: 1.75 | F31: g/cm3 | G31: =E31*lbs_in3 -> 0.06322225 | H31: lb/in3 | N31: 4140 | O31: MPa | P31: =N31*PSI -> 600456.24 | Q31: psi | R31: 0.0176 | S31: 234 | T31: GPa | U31: =S31*PSI -> 33938.831 | V31: ksi | W31: 15 | X31: GPa | Y31: =W31*PSI -> 2175.5661 | Z31: ksi | AA31: 0.27 | AB31: 23 | AC31: GPa | AD31: =AB31*PSI -> 3335.868 | AE31: ksi | AF31: 8100 | AG31: dtex | AH31: =0.9*AF31 -> 7290 | AI31: denier
B32: HS Carbon, DNV generic value | C32: DNV generic constituent materials property | D32: 2022 DNV-RU-Yacht; Part 3, Chapt. 5, Table 2 | E32: 1.77 | F32: g/cm3 | G32: =E32*lbs_in3 -> 0.06394479 | H32: lb/in3 | S32: 230 | T32: GPa | U32: =S32*PSI -> 33358.68 | V32: ksi | W32: 14 | X32: GPa | Y32: =W32*PSI -> 2030.5283 | Z32: ksi | AA32: 0.27 | AB32: 23 | AC32: GPa | AD32: =AB32*PSI -> 3335.868 | AE32: ksi
B33: HM Carbon, DNV generic value | C33: DNV generic constituent materials property | D33: 2022 DNV-RU-Yacht; Part 3, Chapt. 5, Table 2 | E33: 1.9 | F33: g/cm3 | G33: =E33*lbs_in3 -> 0.0686413 | H33: lb/in3 | S33: 370 | T33: GPa | U33: =S33*PSI -> 53663.963 | V33: ksi | W33: 9 | X33: GPa | Y33: =W33*PSI -> 1305.3396 | Z33: ksi | AA33: 0.23 | AB33: 20 | AC33: GPa | AD33: =AB33*PSI -> 2900.7548 | AE33: ksi
AC36: `

Sheet Matrix Data
A1: Resin Matrix Physical and Mechanical Properties
A3: CK | B3: 45500
A4: This spreadsheet is a work-in-progress and under continual revision. No claim is made to fitness for any particular purpose. Alter as you see fit and use at your own risk.
B6: Values taken for materials at +/-22C (72F) when multiple temperature conditions were available. | D6: Value from Source
B7: Values taken as-written for materials when temperature conditions were not specified. | D7: Calculated Value
B8: Estimated or assumed values are based on accepted values from technical literature. | D8: Estimated or Assumed Value | O8: 150g
J9: 22C (72F) | O9: 22C (72F) | Q9: 672 hrs @ 22C (72F)
B10: Description | C10: Notes | D10: Source | E10: Density (cured resin + hardener) | I10: Viscosity, cP ASTM D2196 or ASTM D2393 | M10: Cure Time to tack-free, minutes | N10: Working Life, minutes | O10: Pot Life, minutes ASTM D2471 | Q10: Tensile Strength ASTM D638 | U10: Elongation at Break ASTM D638 | V10: Tensile Modulus ASTM D638 | Z10: Flexural Strength ASTM D790 | AD10: Flexural Modulus ASTM D790 | AH10: Compressive Yield Strength ASTM D695 | AL10: Poisson's Ratio | AM10: Shear Modulus
E11: SI | G11: Imp. | I11: Resin | J11: Hardener | K11: Mixed | Q11: SI | S11: Imp. | V11: SI | X11: Imp. | Z11: SI | AB11: Imp. | AD11: SI | AF11: Imp. | AH11: SI | AJ11: Imp. | AM11: SI | AO11: Imp.
B12: Epoxy Resin Systems:
B13: Gougeon PRO-SET® LAM-125/LAM-224 | C13: Low viscosity for composite fabrics (Fast hardener) | D13: Pro Set Technical Document. See Gougeon website | E13: 1.16 | F13: g/cm3 | G13: =E13*lbs_in3 -> 0.04190732 | H13: lb/in3 | I13: 1731 | J13: 75 | K13: 694 | M13: 90-120 | N13: 40 | O13: 15-19 | Q13: 75.2 | R13: MPa | S13: =Q13*PSI -> 10906.838 | T13: psi | U13: 0.032 | V13: 3.69 | W13: GPa | X13: =V13*PSI -> 535.18925 | Y13: ksi | Z13: 121 | AA13: MPa | AB13: =Z13*PSI -> 17549.566 | AC13: psi | AD13: 3.63 | AE13: GPa | AF13: =AD13*PSI -> 526.48699 | AG13: ksi | AH13: 109 | AI13: MPa | AJ13: =AH13*PSI -> 15809.113 | AK13: psi | AL13: 0.35 | AM13: =V13/(2*(1+AL13)) -> 1.3666667 | AN13: GPa | AO13: =AM13*PSI -> 198.21824 | AP13: ksi
B14: Gougeon PRO-SET® LAM-125/LAM-226 | C14: Low viscosity for composite fabrics (Medium hardener) | D14: Pro Set Technical Document. See Gougeon website | E14: 1.15 | F14: g/cm3 | G14: =E14*lbs_in3 -> 0.04154605 | H14: lb/in3 | I14: 1731 | J14: 42 | K14: 696 | M14: 240-300 | N14: 120-180 | O14: 71-87 | Q14: 67.2 | R14: MPa | S14: =Q14*PSI -> 9746.536 | T14: psi | U14: 0.021 | V14: 3.68 | W14: GPa | X14: =V14*PSI -> 533.73888 | Y14: ksi | Z14: 118 | AA14: MPa | AB14: =Z14*PSI -> 17114.453 | AC14: psi | AD14: 3.7 | AE14: GPa | AF14: =AD14*PSI -> 536.63963 | AG14: ksi | AH14: 115 | AI14: MPa | AJ14: =AH14*PSI -> 16679.34 | AK14: psi | AL14: 0.35 | AM14: =V14/(2*(1+AL14)) -> 1.362963 | AN14: GPa | AO14: =AM14*PSI -> 197.68107 | AP14: ksi
B15: Gougeon PRO-SET® LAM-125/LAM-229 | C15: Low viscosity for composite fabrics (Slow hardener) | D15: Pro Set Technical Document. See Gougeon website | E15: 1.15 | F15: g/cm3 | G15: =E15*lbs_in3 -> 0.04154605 | H15: lb/in2 | I15: 1721 | J15: 40 | K15: 642 | M15: 360-420 | N15: 240-300 | O15: 130-160 | Q15: 64.7 | R15: MPa | S15: =Q15*PSI -> 9383.9416 | T15: psi | U15: 0.021 | V15: 3.68 | W15: GPa | X15: =V15*PSI -> 533.73888 | Y15: ksi | Z15: 118 | AA15: MPa | AB15: =Z15*PSI -> 17114.453 | AC15: psi | AD15: 3.7 | AE15: GPa | AF15: =AD15*PSI -> 536.63963 | AG15: ksi | AH15: 115 | AI15: MPa | AJ15: =AH15*PSI -> 16679.34 | AK15: psi | AL15: 0.35 | AM15: =V15/(2*(1+AL15)) -> 1.362963 | AN15: GPa | AO15: =AM15*PSI -> 197.68107 | AP15: ksi
B16: West System 105 Epoxy Resin/ 205 Fast Hardener | C16: Used for general coating and bonding applications | D16: MatWeb. Also see Gougeon website | E16: 1.18 | F16: g/cm3 | G16: =E16*lbs_in3 -> 0.04262986 | H16: lb/in3 | K16: 975 | M16: 360-480 | N16: 60-70 | O16: 9-12 | Q16: 54.5 | R16: MPa | S16: =Q16*PSI -> 7904.5567 | T16: psi | U16: 0.034 | V16: 2.81 | W16: GPa | X16: =V16*PSI -> 407.55604 | Y16: ksi | Z16: 97.2 | AA16: MPa | AB16: =Z16*PSI -> 14097.668 | AC16: psi | AD16: 3.18 | AE16: GPa | AF16: =AD16*PSI -> 461.22001 | AG16: ksi | AH16: 78.6 | AI16: MPa | AJ16: =AH16*PSI -> 11399.966 | AK16: psi | AL16: 0.35 | AM16: =V16/(2*(1+AL16)) -> 1.0407407 | AN16: GPa | AO16: =AM16*PSI -> 150.94668 | AP16: ksi
B17: West System 105 Epoxy Resin/ 206 Slow Hardener | C17: Used for general coating and bonding applications | D17: MatWeb. Also see Gougeon website | E17: 1.17 | F17: g/cm3 | G17: =E17*lbs_in3 -> 0.04226859 | H17: lb/in3 | K17: 725 | M17: 600-900 | N17: 90-110 | O17: 20-25 | Q17: 50.3 | R17: MPa | S17: =Q17*PSI -> 7295.3982 | T17: psi | U17: 0.045 | V17: 3.17 | W17: GPa | X17: =V17*PSI -> 459.76963 | Y17: ksi | Z17: 81.4 | AA17: MPa | AB17: =Z17*PSI -> 11806.072 | AC17: psi | AD17: 3.17 | AE17: GPa | AF17: =AD17*PSI -> 459.76963 | AG17: ksi | AH17: 79.3 | AI17: MPa | AJ17: =AH17*PSI -> 11501.493 | AK17: psi | AL17: 0.35 | AM17: =V17/(2*(1+AL17)) -> 1.1740741 | AN17: GPa | AO17: =AM17*PSI -> 170.28505 | AP17: ksi
B18: West System 105 Epoxy Resin/ 207 Special Clear Hardener | C18: Used where clear finish over natural wood is desired | D18: MatWeb. Also see Gougeon website | E18: 1.15 | F18: g/cm3 | G18: =E18*lbs_in3 -> 0.04154605 | H18: lb/in3 | K18: 760 | M18: 600-900 | N18: 110-120 | O18: 22-26 | Q18: 46.5 | R18: MPa | S18: =Q18*PSI -> 6744.2548 | T18: psi | U18: 0.038 | V18: 3.03 | W18: GPa | X18: =V18*PSI -> 439.46435 | Y18: ksi | Z18: 77.9 | AA18: MPa | AB18: =Z18*PSI -> 11298.44 | AC18: psi | AD18: 2.84 | AE18: GPa | AF18: =AD18*PSI -> 411.90718 | AG18: ksi | AH18: 75.8 | AI18: MPa | AJ18: =AH18*PSI -> 10993.861 | AK18: psi | AL18: 0.35 | AM18: =V18/(2*(1+AL18)) -> 1.1222222 | AN18: GPa | AO18: =AM18*PSI -> 162.76457 | AP18: ksi
B19: West System 105 Epoxy Resin/ 209 Extra Slow Hardener | C19: Used for general coating and bonding applications | D19: MatWeb. Also see Gougeon website | E19: 1.16 | F19: g/cm3 | G19: =E19*lbs_in3 -> 0.04190732 | H19: lb/in3 | K19: 650 | M19: 1200-1440 | N19: 180-240 | O19: 40-50 | Q19: 50.3 | R19: MPa | S19: =Q19*PSI -> 7295.3982 | T19: psi | U19: 0.036 | V19: 2.74 | W19: GPa | X19: =V19*PSI -> 397.4034 | Y19: ksi | Z19: 86.2 | AA19: MPa | AB19: =Z19*PSI -> 12502.253 | AC19: psi | AD19: 2.74 | AE19: GPa | AF19: =AD19*PSI -> 397.4034 | AG19: ksi | AH19: 82.7 | AI19: MPa | AJ19: =AH19*PSI -> 11994.621 | AK19: psi | AL19: 0.35 | AM19: =V19/(2*(1+AL19)) -> 1.0148148 | AN19: GPa | AO19: =AM19*PSI -> 147.18645 | AP19: ksi
B20: MAS Epoxies LV Resin w Fast Hardener | C20: Non-blushing, low viscosity system for general use | D20: Datasheet from MAS website | E20: 1.14 | F20: g/cm3 | G20: =E20*lbs_in3 -> 0.04118478 | H20: lb/in3 | I20: 1000 | J20: 470 | K20: 650 | M20: 120 tack-free | N20: NA | O20: 10 | Q20: 53.1 | R20: MPa | S20: =Q20*PSI -> 7701.5039 | T20: psi | U20: 0.075 | V20: 2.62 | W20: GPa | X20: =V20*PSI -> 379.99887 | Y20: ksi | Z20: 80 | AA20: MPa | AB20: =Z20*PSI -> 11603.019 | AC20: psi | AD20: 2.74 | AE20: GPa | AF20: =AD20*PSI -> 397.4034 | AG20: ksi | AH20: 65.5 | AI20: MPa | AJ20: =AH20*PSI -> 9499.9718 | AK20: psi | AL20: 0.35 | AM20: =V20/(2*(1+AL20)) -> 0.97037037 | AN20: GPa | AO20: =AM20*PSI -> 140.74032 | AP20: ksi
B21: MAS Epoxies LV Resin w Medium Hardener | C21: Non-blushing, low viscosity system for general use | D21: Datasheet from MAS website | E21: 1.14 | F21: g/cm3 | G21: =E21*lbs_in3 -> 0.04118478 | H21: lb/in3 | I21: 1000 | J21: 400 | K21: 600 | M21: 180 tack-free | N21: NA | O21: 25 | Q21: 55.15 | R21: MPa | S21: =Q21*PSI -> 7998.8313 | T21: psi | U21: 0.07 | V21: 2.69 | W21: GPa | X21: =V21*PSI -> 390.15152 | Y21: ksi | Z21: 80 | AA21: MPa | AB21: =Z21*PSI -> 11603.019 | AC21: psi | AD21: 2.74 | AE21: GPa | AF21: =AD21*PSI -> 397.4034 | AG21: ksi | AH21: 68.25 | AI21: MPa | AJ21: =AH21*PSI -> 9898.8256 | AK21: psi | AL21: 0.35 | AM21: =V21/(2*(1+AL21)) -> 0.9962963 | AN21: GPa | AO21: =AM21*PSI -> 144.50056 | AP21: ksi
B22: MAS Epoxies LV Resin w Slow Hardener | C22: Non-blushing, low viscosity system for general use | D22: Datasheet from MAS website | E22: 1.14 | F22: g/cm3 | G22: =E22*lbs_in3 -> 0.04118478 | H22: lb/in3 | I22: 1000 | J22: 400 | K22: 600 | M22: 300 tack-free | N22: NA | O22: 40 | Q22: 50.3 | R22: MPa | S22: =Q22*PSI -> 7295.3982 | T22: psi | U22: 0.067 | V22: 2.48 | W22: GPa | X22: =V22*PSI -> 359.69359 | Y22: ksi | Z22: 70.33 | AA22: MPa | AB22: =Z22*PSI -> 10200.504 | AC22: psi | AD22: 2.74 | AE22: GPa | AF22: =AD22*PSI -> 397.4034 | AG22: ksi | AH22: 61.35 | AI22: MPa | AJ22: =AH22*PSI -> 8898.0652 | AK22: psi | AL22: 0.35 | AM22: =V22/(2*(1+AL22)) -> 0.91851852 | AN22: GPa | AO22: =AM22*PSI -> 133.21985 | AP22: ksi
B23: Epoxy, DNV generic value | C23: DNV generic constituent materials property | D23: DNV-RU-Yacht; Part 3, Chapt. 5, Table 2 | E23: 1.2 | F23: g/cm3 | G23: =E23*lbs_in3 -> 0.0433524 | H23: lb/in3 | V23: 3.6 | W23: GPa | X23: =V23*PSI -> 522.13586 | Y23: ksi | AL23: 0.35 | AM23: 1.33 | AN23: GPa | AO23: =AM23*PSI -> 192.90019 | AP23: ksi
B24: Polyester and Vinylester Resins:
B25: Polyester, DNV generic value | C25: DNV generic constituent materials property | D25: DNV-RU-Yacht; Part 3, Chapt. 5, Table 2 | E25: 1.2 | F25: g/cm4 | G25: =E25*lbs_in3 -> 0.0433524 | H25: lb/in4 | V25: 3 | W25: GPa | X25: =V25*PSI -> 435.11321 | Y25: ksi | AL25: 0.316 | AM25: 1.14 | AN25: GPa | AO25: =AM25*PSI -> 165.34302 | AP25: ksi

Sheet DNV Ref
